BEGIN:VCALENDAR
VERSION:2.0
PRODID:SchoolNow
CALSCALE:GREGORIAN
BEGIN:VEVENT
UID:c54cdc1e-c6aa-11ee-a86d-0e586dd00499
DTSTAMP:20240208T175205Z
SUMMARY:School Committee - Executive Session
URL;VALUE=URI:https://www.norwood.k12.ma.us/sc/calendar/5286413/school-comm
 ittee-executive-session
DTSTART:20240212T170000Z
DTEND:20240212T180000Z
END:VEVENT
END:VCALENDAR
