BEGIN:VCALENDAR
VERSION:2.0
PRODID:SchoolNow
CALSCALE:GREGORIAN
BEGIN:VEVENT
UID:b63c929a-c6ab-11ee-835a-0a58a9feac02
DTSTAMP:20240208T175849Z
SUMMARY:School Committee Budget Sub Committee - REMOTE MEETING ONLINE
URL;VALUE=URI:https://www.norwood.k12.ma.us/sc/calendar/5286420/school-comm
 ittee-budget-sub-committee-remote-meeting-online-clone-clone-clone-clone-c
 lone-clone-clone-clone-clone-clone-clone
DTSTART:20240213T170000Z
DTEND:20240213T190000Z
END:VEVENT
END:VCALENDAR
