BEGIN:VCALENDAR
VERSION:2.0
PRODID:SchoolNow
CALSCALE:GREGORIAN
BEGIN:VEVENT
UID:fe669d26-c9e5-11ee-9cda-0a58a9feac02
DTSTAMP:20240212T203334Z
SUMMARY:School Committee Executive Session
URL;VALUE=URI:https://www.norwood.k12.ma.us/sc/calendar/5315390/school-comm
 ittee-executive-session
DTSTART:20240227T230000Z
DTEND:20240228T000000Z
END:VEVENT
END:VCALENDAR
