BEGIN:VCALENDAR
VERSION:2.0
PRODID:SchoolNow
CALSCALE:GREGORIAN
BEGIN:VEVENT
UID:7b2f55fe-cffa-11ee-8a20-0e4a7a08f451
DTSTAMP:20240220T141533Z
SUMMARY:School Committee Executive Session - REMOTE
URL;VALUE=URI:https://www.norwood.k12.ma.us/sc/calendar/5366798/school-comm
 ittee-executive-session-clone
DTSTART:20240222T230000Z
DTEND:20240223T000000Z
END:VEVENT
END:VCALENDAR
