BEGIN:VCALENDAR
VERSION:2.0
PRODID:SchoolNow
CALSCALE:GREGORIAN
BEGIN:VEVENT
UID:14bf56a4-d183-11ee-a052-0a58a9feac02
DTSTAMP:20240226T143650Z
SUMMARY:School Committee Budget Sub Committee - REMOTE MEETING ONLINE
URL;VALUE=URI:https://www.norwood.k12.ma.us/sc/calendar/5381417/school-comm
 ittee-budget-sub-committee-remote-meeting-online-clone-clone-clone-clone-c
 lone-clone-clone-clone-clone-clone-clone-clone
DTSTART:20240227T170000Z
DTEND:20240227T190000Z
END:VEVENT
END:VCALENDAR
