BEGIN:VCALENDAR
VERSION:2.0
PRODID:SchoolNow
CALSCALE:GREGORIAN
BEGIN:VEVENT
UID:ccd7ddae-d4b4-11ee-a1b4-0a58a9feac02
DTSTAMP:20240226T143909Z
SUMMARY:Budget Balancing Committee Meeting - Finance Commission Room at Tow
 n Hall
URL;VALUE=URI:https://www.norwood.k12.ma.us/sc/calendar/5408396/budget-bala
 ncing-committee-meeting-finance-commission-room-at-town-hall
DTSTART:20240228T213000Z
DTEND:20240228T223000Z
END:VEVENT
END:VCALENDAR
