BEGIN:VCALENDAR
VERSION:2.0
PRODID:SchoolNow
CALSCALE:GREGORIAN
BEGIN:VEVENT
UID:e33315dc-d4b4-11ee-ab0a-0eb59aa1aca5
DTSTAMP:20240227T184243Z
SUMMARY:RESCHEDULED - School Committee - Budget Sub Committee - REMOTE MEET
 ING ONLINE
URL;VALUE=URI:https://www.norwood.k12.ma.us/sc/calendar/5408399/school-comm
 ittee-budget-sub-committee-remote-meeting-online
DTSTART:20240229T173000Z
DTEND:20240229T183000Z
END:VEVENT
END:VCALENDAR
