BEGIN:VCALENDAR
VERSION:2.0
PRODID:SchoolNow
CALSCALE:GREGORIAN
BEGIN:VEVENT
UID:f431f664-d4b4-11ee-b699-0a58a9feac02
DTSTAMP:20240226T144015Z
SUMMARY:School Committee Executive Session
URL;VALUE=URI:https://www.norwood.k12.ma.us/sc/calendar/5408401/school-comm
 ittee-executive-session
DTSTART:20240229T204500Z
DTEND:20240229T214500Z
END:VEVENT
END:VCALENDAR
