BEGIN:VCALENDAR
VERSION:2.0
PRODID:SchoolNow
CALSCALE:GREGORIAN
BEGIN:VEVENT
UID:c03bc9b8-d5a7-11ee-a16f-0affc63bd109
DTSTAMP:20240227T193815Z
SUMMARY:School Committee - Budget Sub Committee - REMOTE MEETING ONLINE
URL;VALUE=URI:https://www.norwood.k12.ma.us/sc/calendar/5417268/school-comm
 ittee-budget-sub-committee-remote-meeting-online-clone
DTSTART:20240304T153000Z
DTEND:20240304T163000Z
END:VEVENT
END:VCALENDAR
