BEGIN:VCALENDAR
VERSION:2.0
PRODID:SchoolNow
CALSCALE:GREGORIAN
BEGIN:VEVENT
UID:638a71ca-d704-11ee-9396-0a58a9feac02
DTSTAMP:20240229T131354Z
SUMMARY:School Committee - Student Advisory Committee - In Person - Norwood
  High School
URL;VALUE=URI:https://www.norwood.k12.ma.us/sc/calendar/5429821/school-comm
 ittee-student-advisory-committee-in-person-norwood-high-school-clone
DTSTART:20240305T152200Z
DTEND:20240305T161900Z
END:VEVENT
END:VCALENDAR
