BEGIN:VCALENDAR
VERSION:2.0
PRODID:SchoolNow
CALSCALE:GREGORIAN
BEGIN:VEVENT
UID:ba8749d0-daf1-11ee-8422-02babea46ead
DTSTAMP:20240305T131024Z
SUMMARY:School Committee Budget Sub Committee - REMOTE MEETING ONLINE
URL;VALUE=URI:https://www.norwood.k12.ma.us/sc/calendar/5469737/school-comm
 ittee-budget-sub-committee-remote-meeting-online-clone-clone-clone-clone-c
 lone-clone-clone-clone-clone-clone-clone-clone-clone
DTSTART:20240307T173000Z
DTEND:20240307T193000Z
END:VEVENT
END:VCALENDAR
