BEGIN:VCALENDAR
VERSION:2.0
PRODID:SchoolNow
CALSCALE:GREGORIAN
BEGIN:VEVENT
UID:1b4b949a-dc93-11ee-9a1c-0a58a9feac02
DTSTAMP:20240307T145807Z
SUMMARY:School Committee Executive Session - REMOTE MEETING ONLINE
URL;VALUE=URI:https://www.norwood.k12.ma.us/sc/calendar/5486921/school-comm
 ittee-executive-session-clone-clone
DTSTART:20240314T200000Z
DTEND:20240314T210000Z
END:VEVENT
END:VCALENDAR
