BEGIN:VCALENDAR
VERSION:2.0
PRODID:SchoolNow
CALSCALE:GREGORIAN
BEGIN:VEVENT
UID:5473691e-eb07-11ee-ba17-0a58a9feac02
DTSTAMP:20240326T002520Z
SUMMARY:School Committee Executive Session - REMOTE MEETING ONLINE
URL;VALUE=URI:https://www.norwood.k12.ma.us/sc/calendar/5632014/school-comm
 ittee-executive-session-hybrid-clone-clone-clone-clone-clone
DTSTART:20240401T203000Z
DTEND:20240401T213000Z
END:VEVENT
END:VCALENDAR
