BEGIN:VCALENDAR
VERSION:2.0
PRODID:SchoolNow
CALSCALE:GREGORIAN
BEGIN:VEVENT
UID:5d9fa62c-f027-11ee-b8c3-0a58a9feac02
DTSTAMP:20240401T125716Z
SUMMARY:School Committee Excecutive Session - NHS
URL;VALUE=URI:https://www.norwood.k12.ma.us/sc/calendar/5681636/school-comm
 ittee-excecutive-session-nhs
DTSTART:20240402T193000Z
DTEND:20240402T203000Z
END:VEVENT
END:VCALENDAR
