BEGIN:VCALENDAR
VERSION:2.0
PRODID:SchoolNow
CALSCALE:GREGORIAN
BEGIN:VEVENT
UID:2fb1ca62-fd9a-11ee-ac7e-0e1bdcc5b183
DTSTAMP:20240418T154156Z
SUMMARY:School Committee Executive Session Hybrid Meeting - Unit A Negotiat
 ions
URL;VALUE=URI:https://www.norwood.k12.ma.us/sc/calendar/5810236/school-comm
 ittee-executive-session-nhs-clone-clone-clone
DTSTART:20240424T193000Z
DTEND:20240424T203000Z
END:VEVENT
END:VCALENDAR
