BEGIN:VCALENDAR
VERSION:2.0
PRODID:SchoolNow
CALSCALE:GREGORIAN
BEGIN:VEVENT
UID:f9aca38e-031f-11ef-8243-0ee0a313dfc5
DTSTAMP:20240425T162213Z
SUMMARY:School Committee - Executive Session
URL;VALUE=URI:https://www.norwood.k12.ma.us/sc/calendar/5856745/school-comm
 ittee-executive-session
DTSTART:20240429T190000Z
DTEND:20240429T200000Z
END:VEVENT
END:VCALENDAR
