BEGIN:VCALENDAR
VERSION:2.0
PRODID:SchoolNow
CALSCALE:GREGORIAN
BEGIN:VEVENT
UID:c2f44e1c-0ba5-11ef-a0d5-0a58a9feac02
DTSTAMP:20240506T124004Z
SUMMARY:School Committee - Executive Session
URL;VALUE=URI:https://www.norwood.k12.ma.us/sc/calendar/5922666/school-comm
 ittee-executive-session
DTSTART:20240506T193000Z
DTEND:20240506T203000Z
END:VEVENT
END:VCALENDAR
