BEGIN:VCALENDAR
VERSION:2.0
PRODID:SchoolNow
CALSCALE:GREGORIAN
BEGIN:VEVENT
UID:d4db8e7e-0ba5-11ef-8f91-0e6575bd53cf
DTSTAMP:20240506T124034Z
SUMMARY:School Committee - Executive Session
URL;VALUE=URI:https://www.norwood.k12.ma.us/sc/calendar/5922668/school-comm
 ittee-executive-session
DTSTART:20240508T200000Z
DTEND:20240508T210000Z
END:VEVENT
END:VCALENDAR
