BEGIN:VCALENDAR
VERSION:2.0
PRODID:SchoolNow
CALSCALE:GREGORIAN
BEGIN:VEVENT
UID:34105bb2-137c-11ef-8ee5-0e84a7f8826f
DTSTAMP:20240516T120244Z
SUMMARY:School Committee - Executive Session
URL;VALUE=URI:https://www.norwood.k12.ma.us/sc/calendar/5980326/school-comm
 ittee-executive-session
DTSTART:20240530T193000Z
DTEND:20240530T203000Z
END:VEVENT
END:VCALENDAR
