BEGIN:VCALENDAR
VERSION:2.0
PRODID:SchoolNow
CALSCALE:GREGORIAN
BEGIN:VEVENT
UID:6c75d264-16a3-11ef-8299-0affeaa2357b
DTSTAMP:20240520T122102Z
SUMMARY:School Committee Executive Session
URL;VALUE=URI:https://www.norwood.k12.ma.us/sc/calendar/6001412/school-comm
 ittee-executive-session
DTSTART:20240522T193000Z
DTEND:20240522T203000Z
END:VEVENT
END:VCALENDAR
