BEGIN:VCALENDAR
VERSION:2.0
PRODID:SchoolNow
CALSCALE:GREGORIAN
BEGIN:VEVENT
UID:21b9f02c-2335-11ef-a7b1-02da5f4059db
DTSTAMP:20240618T125137Z
SUMMARY:CANCELLED-School Committee - Student Advisory Committee - REMOTE ME
 ETING ONLINE
URL;VALUE=URI:https://www.norwood.k12.ma.us/sc/calendar/6080058/school-comm
 ittee-student-advisory-committee-in-person-norwood-high-school-clone-clone
DTSTART:20240618T160000Z
DTEND:20240618T170000Z
END:VEVENT
END:VCALENDAR
