BEGIN:VCALENDAR
VERSION:2.0
PRODID:SchoolNow
CALSCALE:GREGORIAN
BEGIN:VEVENT
UID:fb29e712-2caa-11ef-b580-0affe7aab175
DTSTAMP:20240617T131207Z
SUMMARY:School Committee Meeting - REMOTE MEETING ONLINE
URL;VALUE=URI:https://www.norwood.k12.ma.us/sc/calendar/6133611/school-comm
 ittee-meeting-remote-meeting-online
DTSTART:20240724T230000Z
DTEND:20240725T000000Z
END:VEVENT
END:VCALENDAR
