BEGIN:VCALENDAR
VERSION:2.0
PRODID:SchoolNow
CALSCALE:GREGORIAN
BEGIN:VEVENT
UID:09ff907a-2cab-11ef-bcc6-0e3017ea02cd
DTSTAMP:20240903T142615Z
SUMMARY:School Committee Meeting - Hybrid Meeting/In Person at Savage Cente
 r - see Schedule page for details
URL;VALUE=URI:https://www.norwood.k12.ma.us/sc/calendar/6133613/school-comm
 ittee-meeting-hybrid-meeting-in-person-at-savage-center-see-schedule-page-
 for-details-clone
DTSTART:20240911T230000Z
DTEND:20240912T000000Z
END:VEVENT
END:VCALENDAR
