BEGIN:VCALENDAR
VERSION:2.0
PRODID:SchoolNow
CALSCALE:GREGORIAN
BEGIN:VEVENT
UID:0f202fec-2cab-11ef-9263-0affc35021eb
DTSTAMP:20240903T142620Z
SUMMARY:School Committee Meeting - Hybrid Meeting/In Person at Savage Cente
 r - see Schedule page for details
URL;VALUE=URI:https://www.norwood.k12.ma.us/sc/calendar/6133614/school-comm
 ittee-meeting-hybrid-meeting-in-person-at-savage-center-see-schedule-page-
 for-details-clone-clone
DTSTART:20240925T230000Z
DTEND:20240926T000000Z
END:VEVENT
END:VCALENDAR
