BEGIN:VCALENDAR
VERSION:2.0
PRODID:SchoolNow
CALSCALE:GREGORIAN
BEGIN:VEVENT
UID:e2d11342-2cab-11ef-8ad8-0a58a9feac02
DTSTAMP:20240903T142641Z
SUMMARY:School Committee Meeting - Hybrid Meeting/In Person at Savage Cente
 r - see Schedule page for details
URL;VALUE=URI:https://www.norwood.k12.ma.us/sc/calendar/6133628/school-comm
 ittee-meeting-hybrid-meeting-in-person-at-savage-center-see-schedule-page-
 for-details-clone-clone-clone-clone-clone-clone-clone
DTSTART:20241219T000000Z
DTEND:20241219T010000Z
END:VEVENT
END:VCALENDAR
