BEGIN:VCALENDAR
VERSION:2.0
PRODID:SchoolNow
CALSCALE:GREGORIAN
BEGIN:VEVENT
UID:fb983cd4-2cab-11ef-9ddb-0affc2dc2e8b
DTSTAMP:20240903T142655Z
SUMMARY:School Committee Meeting - Hybrid Meeting/In Person at Savage Cente
 r - see Schedule page for details
URL;VALUE=URI:https://www.norwood.k12.ma.us/sc/calendar/6133634/school-comm
 ittee-meeting-hybrid-meeting-in-person-at-savage-center-see-schedule-page-
 for-details-clone-clone-clone-clone-clone-clone-clone-clone-clone-clone
DTSTART:20250213T000000Z
DTEND:20250213T010000Z
END:VEVENT
END:VCALENDAR
