BEGIN:VCALENDAR
VERSION:2.0
PRODID:SchoolNow
CALSCALE:GREGORIAN
BEGIN:VEVENT
UID:4b7b4862-3d60-11ef-8a80-0a58a9feac02
DTSTAMP:20240708T192846Z
SUMMARY:School Committee Executive Session - Immediately following School C
 ommittee Workshop
URL;VALUE=URI:https://www.norwood.k12.ma.us/sc/calendar/6233308/school-comm
 ittee-executive-session-immediately-following-school-committee-workshop
DTSTART:20240711T000000Z
DTEND:20240711T010000Z
END:VEVENT
END:VCALENDAR
