BEGIN:VCALENDAR
VERSION:2.0
PRODID:SchoolNow
CALSCALE:GREGORIAN
BEGIN:VEVENT
UID:00e9b06c-4a7c-11ef-9fb7-0a58a9feac02
DTSTAMP:20240725T114952Z
SUMMARY:School Committee Executive Session
URL;VALUE=URI:https://www.norwood.k12.ma.us/sc/calendar/6307500/school-comm
 ittee-executive-session
DTSTART:20240730T130000Z
DTEND:20240730T140000Z
END:VEVENT
END:VCALENDAR
