BEGIN:VCALENDAR
VERSION:2.0
PRODID:SchoolNow
CALSCALE:GREGORIAN
BEGIN:VEVENT
UID:53f93676-6ac8-11ef-90fb-0afff2fcba5f
DTSTAMP:20240904T143046Z
SUMMARY:School Committee Policy Sub Committee Meeting - REMOTE MEETING ONLI
 NE
URL;VALUE=URI:https://www.norwood.k12.ma.us/sc/calendar/6521295/school-comm
 ittee-policy-sub-committee-meeting-remote-meeting-online
DTSTART:20240906T143000Z
DTEND:20240906T153000Z
END:VEVENT
END:VCALENDAR
