BEGIN:VCALENDAR
VERSION:2.0
PRODID:SchoolNow
CALSCALE:GREGORIAN
BEGIN:VEVENT
UID:435babcc-6ea7-11ef-a96a-0a58a9feac02
DTSTAMP:20240909T123014Z
SUMMARY:School Committee - Public Forum - Elementary Study - Balch School C
 afeteria
URL;VALUE=URI:https://www.norwood.k12.ma.us/sc/calendar/6559950/school-comm
 ittee-public-forum-elementary-study-balch-school-cafeteria
DTSTART:20240914T140000Z
DTEND:20240914T150000Z
END:VEVENT
END:VCALENDAR
