BEGIN:VCALENDAR
VERSION:2.0
PRODID:SchoolNow
CALSCALE:GREGORIAN
BEGIN:VEVENT
UID:e4f27b7c-71dc-11ef-a142-0a58a9feac02
DTSTAMP:20240913T143141Z
SUMMARY:School Committee Budget Sub Committee - REMOTE MEETING ONLINE
URL;VALUE=URI:https://www.norwood.k12.ma.us/sc/calendar/6594604/school-comm
 ittee-budget-sub-committee-remote-meeting-online
DTSTART:20240918T170000Z
DTEND:20240918T180000Z
END:VEVENT
END:VCALENDAR
