BEGIN:VCALENDAR
VERSION:2.0
PRODID:SchoolNow
CALSCALE:GREGORIAN
BEGIN:VEVENT
UID:55d41594-7a7a-11ef-9eea-02d15b56a1e3
DTSTAMP:20240924T133851Z
SUMMARY:School Committee Budget Sub Committee Meeting - REMOTE MEETING ONLI
 NE
URL;VALUE=URI:https://www.norwood.k12.ma.us/sc/calendar/6678974/school-comm
 ittee-budget-sub-committee-meeting-remote-meeting-online
DTSTART:20241007T160000Z
DTEND:20241007T170000Z
END:VEVENT
END:VCALENDAR
