BEGIN:VCALENDAR
VERSION:2.0
PRODID:SchoolNow
CALSCALE:GREGORIAN
BEGIN:VEVENT
UID:6e2f9c44-7a7a-11ef-b6f0-02ec9a156d6b
DTSTAMP:20240924T133932Z
SUMMARY:School Committee Budget Sub Committee Meeting - REMOTE MEETING ONLI
 NE
URL;VALUE=URI:https://www.norwood.k12.ma.us/sc/calendar/6678976/school-comm
 ittee-budget-sub-committee-meeting-remote-meeting-online
DTSTART:20241011T163000Z
DTEND:20241011T183000Z
END:VEVENT
END:VCALENDAR
