BEGIN:VCALENDAR
VERSION:2.0
PRODID:SchoolNow
CALSCALE:GREGORIAN
BEGIN:VEVENT
UID:bb5ed0a2-7a7a-11ef-bfe5-0affd3a55449
DTSTAMP:20240924T134141Z
SUMMARY:School Committee Policy Sub Committee Meeting - REMOTE MEETING ONLI
 NE
URL;VALUE=URI:https://www.norwood.k12.ma.us/sc/calendar/6678978/school-comm
 ittee-policy-sub-committee-meeting-remote-meeting-online
DTSTART:20241007T170000Z
DTEND:20241007T180000Z
END:VEVENT
END:VCALENDAR
