BEGIN:VCALENDAR
VERSION:2.0
PRODID:SchoolNow
CALSCALE:GREGORIAN
BEGIN:VEVENT
UID:d63b1fa2-7a7a-11ef-9374-02bc352869e7
DTSTAMP:20240924T134419Z
SUMMARY:School Committee Student Advisory Council - Norwood High School
URL;VALUE=URI:https://www.norwood.k12.ma.us/sc/calendar/6678980/school-comm
 ittee-student-advisory-committee-norwood-high-school
DTSTART:20241029T142200Z
DTEND:20241029T151900Z
END:VEVENT
END:VCALENDAR
