BEGIN:VCALENDAR
VERSION:2.0
PRODID:SchoolNow
CALSCALE:GREGORIAN
BEGIN:VEVENT
UID:1ece5210-7fef-11ef-bb01-0affe0c078f9
DTSTAMP:20241001T121726Z
SUMMARY:School Committee - Public Forum - Elementary Study - Cleveland Elem
 entary School
URL;VALUE=URI:https://www.norwood.k12.ma.us/sc/calendar/6732140/school-comm
 ittee-public-forum-elementary-study-cleveland-elementary-school
DTSTART:20241008T230000Z
DTEND:20241009T000000Z
END:VEVENT
END:VCALENDAR
