BEGIN:VCALENDAR
VERSION:2.0
PRODID:SchoolNow
CALSCALE:GREGORIAN
BEGIN:VEVENT
UID:cd30f84c-9789-11ef-a976-0a58a9feac02
DTSTAMP:20241031T131238Z
SUMMARY:School Committee Policy Sub Committee Meeting - REMOTE MEETING ONLI
 NE
URL;VALUE=URI:https://www.norwood.k12.ma.us/sc/calendar/6933356/school-comm
 ittee-policy-sub-committee-meeting-remote-meeting-online
DTSTART:20241104T140000Z
DTEND:20241104T150000Z
END:VEVENT
END:VCALENDAR
