BEGIN:VCALENDAR
VERSION:2.0
PRODID:SchoolNow
CALSCALE:GREGORIAN
BEGIN:VEVENT
UID:310b23e6-987b-11ef-9ad1-0a58a9feac02
DTSTAMP:20241101T180034Z
SUMMARY:School Committee Budget Sub Committee Meeting - REMOTE MEETING ONLI
 NE
URL;VALUE=URI:https://www.norwood.k12.ma.us/sc/calendar/6942151/school-comm
 ittee-budget-sub-committee-meeting-remote-meeting-online
DTSTART:20241106T200000Z
DTEND:20241106T230000Z
END:VEVENT
END:VCALENDAR
