BEGIN:VCALENDAR
VERSION:2.0
PRODID:SchoolNow
CALSCALE:GREGORIAN
BEGIN:VEVENT
UID:5c173360-9d15-11ef-905b-0e4baf9b99d3
DTSTAMP:20241107T143509Z
SUMMARY:School Committee Policy Sub Committee Meeting - REMOTE MEETING ONLI
 NE
URL;VALUE=URI:https://www.norwood.k12.ma.us/sc/calendar/6976224/school-comm
 ittee-policy-sub-committee-meeting-remote-meeting-online
DTSTART:20241113T140000Z
DTEND:20241113T150000Z
END:VEVENT
END:VCALENDAR
