BEGIN:VCALENDAR
VERSION:2.0
PRODID:SchoolNow
CALSCALE:GREGORIAN
BEGIN:VEVENT
UID:6f72fa46-a131-11ef-9344-0e4fef80503d
DTSTAMP:20241112T200516Z
SUMMARY:School Committee Budget Sub Committee Meeting - REMOTE MEETING ONLI
 NE
URL;VALUE=URI:https://www.norwood.k12.ma.us/sc/calendar/7008435/school-comm
 ittee-budget-sub-committee-meeting-remote-meeting-online
DTSTART:20241114T210000Z
DTEND:20241114T230000Z
END:VEVENT
END:VCALENDAR
