BEGIN:VCALENDAR
VERSION:2.0
PRODID:SchoolNow
CALSCALE:GREGORIAN
BEGIN:VEVENT
UID:24ce3036-a740-11ef-94a7-0e74aa51d69d
DTSTAMP:20241120T130540Z
SUMMARY:School Committee Workshop
URL;VALUE=URI:https://www.norwood.k12.ma.us/sc/calendar/7051779/school-comm
 ittee-workshop
DTSTART:20241205T010000Z
DTEND:20241205T020000Z
END:VEVENT
END:VCALENDAR
