BEGIN:VCALENDAR
VERSION:2.0
PRODID:SchoolNow
CALSCALE:GREGORIAN
BEGIN:VEVENT
UID:f02fe638-ab33-11ef-b958-0e8bb9ef75f3
DTSTAMP:20241125T134823Z
SUMMARY:School Committee Policy Sub Committee Meeting - REMOTE MEETING ONLI
 NE
URL;VALUE=URI:https://www.norwood.k12.ma.us/sc/calendar/7077536/school-comm
 ittee-policy-sub-committee-meeting-remote-meeting-online
DTSTART:20241127T140000Z
DTEND:20241127T150000Z
END:VEVENT
END:VCALENDAR
