BEGIN:VCALENDAR
VERSION:2.0
PRODID:SchoolNow
CALSCALE:GREGORIAN
BEGIN:VEVENT
UID:285ffd68-b188-11ef-a0a2-0a58a9feac02
DTSTAMP:20241203T150622Z
SUMMARY:School Committee Student Advisory Council - Norwood High School
URL;VALUE=URI:https://www.norwood.k12.ma.us/sc/calendar/7115591/school-comm
 ittee-student-advisory-committee-norwood-high-school-clone
DTSTART:20241205T152200Z
DTEND:20241205T161900Z
END:VEVENT
END:VCALENDAR
