BEGIN:VCALENDAR
VERSION:2.0
PRODID:SchoolNow
CALSCALE:GREGORIAN
BEGIN:VEVENT
UID:be52b584-b30b-11ef-9720-0e67d7892de7
DTSTAMP:20241205T132049Z
SUMMARY:School Committee - Executive Session
URL;VALUE=URI:https://www.norwood.k12.ma.us/sc/calendar/7124754/school-comm
 ittee-executive-session
DTSTART:20241218T230000Z
DTEND:20241219T000000Z
END:VEVENT
END:VCALENDAR
