BEGIN:VCALENDAR
VERSION:2.0
PRODID:SchoolNow
CALSCALE:GREGORIAN
BEGIN:VEVENT
UID:f7f59286-b62e-11ef-b3ae-0a58a9feac02
DTSTAMP:20241209T131031Z
SUMMARY:School Committee Policy Sub Committee Meeting - REMOTE MEETING ONLI
 NE
URL;VALUE=URI:https://www.norwood.k12.ma.us/sc/calendar/7144499/school-comm
 ittee-policy-sub-committee-meeting-remote-meeting-online
DTSTART:20241211T140000Z
DTEND:20241211T150000Z
END:VEVENT
END:VCALENDAR
