BEGIN:VCALENDAR
VERSION:2.0
PRODID:SchoolNow
CALSCALE:GREGORIAN
BEGIN:VEVENT
UID:e22306fe-b729-11ef-a94c-020c3805f15b
DTSTAMP:20241210T190638Z
SUMMARY:School Committee Budget Sub Committee Meeting - REMOTE MEETING ONLI
 NE
URL;VALUE=URI:https://www.norwood.k12.ma.us/sc/calendar/7151306/school-comm
 ittee-budget-sub-committee-meeting-remote-meeting-online
DTSTART:20241212T190000Z
DTEND:20241212T210000Z
END:VEVENT
END:VCALENDAR
