BEGIN:VCALENDAR
VERSION:2.0
PRODID:SchoolNow
CALSCALE:GREGORIAN
BEGIN:VEVENT
UID:2d1b6aa0-c9d3-11ef-a3a2-0a58a9feac02
DTSTAMP:20250103T130350Z
SUMMARY:School Committee Executive Session
URL;VALUE=URI:https://www.norwood.k12.ma.us/sc/calendar/7262769/school-comm
 ittee-executive-session
DTSTART:20250115T230000Z
DTEND:20250116T000000Z
END:VEVENT
END:VCALENDAR
