BEGIN:VCALENDAR
VERSION:2.0
PRODID:SchoolNow
CALSCALE:GREGORIAN
BEGIN:VEVENT
UID:a4795e68-ce97-11ef-a2a6-0e49f4feba57
DTSTAMP:20250109T144016Z
SUMMARY:School Committee Budget Sub Committee Meeting - REMOTE MEETING ONLI
 NE
URL;VALUE=URI:https://www.norwood.k12.ma.us/sc/calendar/7291658/school-comm
 ittee-budget-sub-committee-meeting-remote-meeting-online
DTSTART:20250113T183000Z
DTEND:20250113T203000Z
END:VEVENT
END:VCALENDAR
