BEGIN:VCALENDAR
VERSION:2.0
PRODID:SchoolNow
CALSCALE:GREGORIAN
BEGIN:VEVENT
UID:cf63bdaa-d1ba-11ef-8428-0eeb9ce32c25
DTSTAMP:20250113T142934Z
SUMMARY:School Committee Policy Sub Committee Meeting - REMOTE MEETING ONLI
 NE
URL;VALUE=URI:https://www.norwood.k12.ma.us/sc/calendar/7308312/school-comm
 ittee-policy-sub-committee-meeting-remote-meeting-online
DTSTART:20250115T140000Z
DTEND:20250115T150000Z
END:VEVENT
END:VCALENDAR
