BEGIN:VCALENDAR
VERSION:2.0
PRODID:SchoolNow
CALSCALE:GREGORIAN
BEGIN:VEVENT
UID:b5b6dec8-d507-11ef-82cc-0a58a9feac02
DTSTAMP:20250117T191736Z
SUMMARY:School Committee Budget Sub Committee Meeting - REMOTE MEETING ONLI
 NE
URL;VALUE=URI:https://www.norwood.k12.ma.us/sc/calendar/7330888/school-comm
 ittee-budget-sub-committee-meeting-remote-meeting-online
DTSTART:20250122T190000Z
DTEND:20250122T210000Z
END:VEVENT
END:VCALENDAR
